BEGIN:VCALENDAR
VERSION:2.0
CALSCALE:GREGORIAN
PRODID:adamgibbons/ics
METHOD:PUBLISH
X-PUBLISHED-TTL:PT1H
BEGIN:VEVENT
UID:133@parrilla.radioitinerante.com
SUMMARY:Continuidad
DTSTAMP:20260421T114324Z
DTSTART:20260323T230000Z
DTEND:20260324T070000Z
DESCRIPTION:Continuidad Musical
URL:https://parrilla.radioitinerante.com/event/continuidad-40
LOCATION:RAI - Radio Autonoma Itinerante
STATUS:CONFIRMED
CATEGORIES:RAI
X-ALT-DESC;FMTTYPE=text/html:<p>Continuidad Musical</p>
BEGIN:VALARM
ACTION:DISPLAY
DESCRIPTION:Continuidad
TRIGGER:-PT1H
END:VALARM
END:VEVENT
END:VCALENDAR
